BEGIN:VCALENDAR
VERSION:2.0
PRODID:icalendar-ruby
CALSCALE:GREGORIAN
METHOD:PUBLISH
BEGIN:VEVENT
DTSTAMP:20260423T172016Z
UID:10-937051@nbclaurens.org
DTSTART:20260930T230000Z
DTEND:20261001T000000Z
CLASS:PUBLIC
CREATED:20260423T104624
DESCRIPTION:
LAST-MODIFIED:20260423T104624
LOCATION:
SUMMARY:Wednesday Night Youth and Childrens Groups
URL;VALUE=URI:https://nbclaurens.org/events/wednesday-night-youth-and-child
 rens-groups/2026-09-30
ATTACH;FILENAME=6_20250925_141207_0001.png;FMTTYPE=image/png:https://dq5pwp
 g1q8ru0.cloudfront.net/2025/09/25/18/14/58/ff764165-9b95-4b70-bf7a-34c2d7f
 b6fb6/6_20250925_141207_0001.png
END:VEVENT
END:VCALENDAR
