BEGIN:VCALENDAR
VERSION:2.0
PRODID:icalendar-ruby
CALSCALE:GREGORIAN
METHOD:PUBLISH
BEGIN:VEVENT
DTSTAMP:20260420T155233Z
UID:74-923547@nbclaurens.org
DTSTART:20260423T223000Z
DTEND:20260424T000000Z
CLASS:PUBLIC
CREATED:20260420T081542
DESCRIPTION:Join us for a night of good food and great fellowship!
LAST-MODIFIED:20260420T081542
LOCATION:135 S Main St. Woodruff\, SC 29388
SUMMARY:Women's Fellowship Dinner
URL;VALUE=URI:https://nbclaurens.org/events/womens-fellowship-dinner/2026-0
 4-23
ATTACH;FILENAME=Website-Graphics_20260420_081357_0000.png;FMTTYPE=image/png
 :https://dq5pwpg1q8ru0.cloudfront.net/2026/04/20/12/15/42/28cba105-a709-4c
 db-a9a7-c44bfbc4538a/Website-Graphics_20260420_081357_0000.png
END:VEVENT
END:VCALENDAR
